BEGIN:VCALENDAR
VERSION:2.0
PRODID:-//eventon.com NONSGML v1.0//EN
CALSCALE:GREGORIAN
METHOD:PUBLISH
BEGIN:VEVENT
UID:69ea023e80e38
DTSTAMP:20260423T112758Z
DTSTART:20190903T180000Z
DTEND:20190903T203000Z
LOCATION:Aula MFC De Bogen Triasplein 11
SUMMARY:Indische Maaltijd
DESCRIPTION:Indische Maaltijd\nhttps://wv3l.nl/events/indische-maaltijd-2/
URL:https://wv3l.nl/events/indische-maaltijd-2/
END:VEVENT
END:VCALENDAR