BEGIN:VCALENDAR
VERSION:2.0
PRODID:-//eventon.com NONSGML v1.0//EN
CALSCALE:GREGORIAN
METHOD:PUBLISH
BEGIN:VEVENT
UID:69e9e53fda857
DTSTAMP:20260423T092415Z
DTSTART:20261113T190000Z
DTEND:20261113T223000Z
LOCATION:Triaszaal MFC De Bogen Triasplein 11\,  3845 GC Harderwijk
SUMMARY:Spelletjesavond
DESCRIPTION:Datum: vrijdag 13 november 2026Tijd: 19:00 &#8211; 22:30uLocati
 e: Triaszaal\,  MFC de Bogen &nbsp; &nbsp;\nhttps://wv3l.nl/events/spelletj
 esavond-november2026/
URL:https://wv3l.nl/events/spelletjesavond-november2026/
END:VEVENT
END:VCALENDAR