BEGIN:VCALENDAR
VERSION:2.0
PRODID:-//eventon.com NONSGML v1.0//EN
CALSCALE:GREGORIAN
METHOD:PUBLISH
BEGIN:VEVENT
UID:69e7332b2bada
DTSTAMP:20260421T081955Z
DTSTART:20261215T190000Z
DTEND:20261215T210000Z
LOCATION:Serre (Alleman) Triasplein 1
SUMMARY:Oudjaarsreceptie
DESCRIPTION:De receptie zal plaats vinden op 15 december 2026\,  tussen 19.
 00 uur en 21.00 uur in Grand Café Alleman\,  Triasplein 1\,  3845 GC Harde
 rwijk. Programma: 19.00u Inloop 19.30u Welkom en korte toespraak voorzitter
  21.00u Einde receptie Vanwege het aantal personen dat wij bij Grand Café 
 Alleman moeten aanmelden\,  verzoek ik[..]\nhttps://wv3l.nl/events/oudjaars
 receptie-2026/
URL:https://wv3l.nl/events/oudjaarsreceptie-2026/
END:VEVENT
END:VCALENDAR