BEGIN:VCALENDAR
VERSION:2.0
PRODID:-//eventon.com NONSGML v1.0//EN
CALSCALE:GREGORIAN
METHOD:PUBLISH
BEGIN:VEVENT
UID:69e736e1bc8c8
DTSTAMP:20260421T083545Z
DTSTART:20261013T180000Z
DTEND:20261013T210000Z
LOCATION:Aula MFC De Bogen Triasplein 11
SUMMARY:Rijstmaaltijd
DESCRIPTION:Datum Dinsdag 13 oktober 2026 Plaats Drielandenzaal in MFC De B
 ogen Drielanden – Triasplein 11 Tijd Aanvang : 18:00 uur (Zaal open – 1
 7.45 uur) Einde : 21:00 uur (Verwacht) Aanmelden (Vol = Vol\,  max 80 perso
 nen) Via Mail: info@wv3l.nl &nbsp;\nhttps://wv3l.nl/events/rijstmaaltijd-20
 26-2/
URL:https://wv3l.nl/events/rijstmaaltijd-2026-2/
END:VEVENT
END:VCALENDAR