BEGIN:VCALENDAR
VERSION:2.0
PRODID:-//eventon.com NONSGML v1.0//EN
CALSCALE:GREGORIAN
METHOD:PUBLISH
BEGIN:VEVENT
UID:69e819ffaef2c
DTSTAMP:20260422T004447Z
DTSTART:20260414T180000Z
DTEND:20260414T210000Z
LOCATION:Aula MFC De Bogen Triasplein 11
SUMMARY:Rijstmaaltijd
DESCRIPTION:Datum Dinsdag 14 april 2026 Plaats Drielandenzaal in MFC De Bog
 en Drielanden – Triasplein 11 Tijd Aanvang : 18:00 uur (Zaal open – 17.
 45 uur) Einde : 21:00 uur (Verwacht) Aanmelden (Vol = Vol\,  max 80 persone
 n) Via Mail: info@wv3l.nl &nbsp;\nhttps://wv3l.nl/events/rijstmaaltijd-2026
 -1/
URL:https://wv3l.nl/events/rijstmaaltijd-2026-1/
END:VEVENT
END:VCALENDAR