BEGIN:VCALENDAR
VERSION:2.0
PRODID:-//eventon.com NONSGML v1.0//EN
CALSCALE:GREGORIAN
METHOD:PUBLISH
BEGIN:VEVENT
UID:69e7348c58591
DTSTAMP:20260421T082548Z
DTSTART:20261121T130000Z
DTEND:20261121T163000Z
LOCATION:Wijkontmoetingscentrum Drielanden Triasplein 9
SUMMARY:Klaverjastoernooi
DESCRIPTION:Doe mee met het altijd gezellig klaverjastoernooi. Meedoen om t
 e winnen of alleen voor de gezelligheid kan natuurlijk allebei. Er zijn leu
 ke prijzen te verdienen. Zaal open: 12:30u Start: 13:00 Aanmelden: Telefoni
 sch 0341 421 811\nhttps://wv3l.nl/events/klaverjastoernooi-2026-2/
URL:https://wv3l.nl/events/klaverjastoernooi-2026-2/
END:VEVENT
END:VCALENDAR