BEGIN:VCALENDAR
VERSION:2.0
PRODID:-//eventon.com NONSGML v1.0//EN
CALSCALE:GREGORIAN
METHOD:PUBLISH
BEGIN:VEVENT
UID:69e9e5db8c133
DTSTAMP:20260423T092651Z
DTSTART:20261024T110000Z
DTEND:20261024T160000Z
LOCATION:Sporthal MFC de Bogen Triasplein 11
SUMMARY:Indoor Speelspektakel
DESCRIPTION:Het speelspektakel zal plaatsvinden in Sporthal De Bogen aan he
 t Triasplein in Drielanden\,  met een diversiteit aan &#8220;indoor&#8221; 
 opblaasbare speeltoestellen. Een leuk evenement tijdens de voorjaarsvakanti
 e\,  waarbij de kinderen lekker kunnen bezig zijn en zich een middagje lekk
 er kunnen uitleven. Leden gratis Niet leden € 3\, 00\nhttps://wv3l.nl/eve
 nts/indoor-speelspektakel-2026-2/
URL:https://wv3l.nl/events/indoor-speelspektakel-2026-2/
END:VEVENT
END:VCALENDAR