BEGIN:VCALENDAR
VERSION:2.0
PRODID:-//eventon.com NONSGML v1.0//EN
CALSCALE:GREGORIAN
METHOD:PUBLISH
BEGIN:VEVENT
UID:69e9e5ffde8bd
DTSTAMP:20260423T092727Z
DTSTART:20261118T140000Z
DTEND:20261118T170000Z
LOCATION:Aula MFC De Bogen Triasplein 11
SUMMARY:Bingo Middag
DESCRIPTION:Datum Woensdag 18 november 2026 Plaats Drielandenzaal in MFC De
  Bogen Drielanden – Triasplein 11 Tijd Aanvang : 14:00 uur Einde : 17:00 
 uur (Verwacht) Zaal open : 13:30 uur Kosten -Leden € 2\, 50 p/p &amp; Nie
 t-Leden  : € 5\, 00 p/p (betalen bij aanmelden) Aanmelden Op locatie &nb
 sp;\nhttps://wv3l.nl/events/bingo-middag-10/
URL:https://wv3l.nl/events/bingo-middag-10/
END:VEVENT
END:VCALENDAR