BEGIN:VCALENDAR
VERSION:2.0
PRODID:-//eventon.com NONSGML v1.0//EN
CALSCALE:GREGORIAN
METHOD:PUBLISH
BEGIN:VEVENT
UID:69e9e67363561
DTSTAMP:20260423T092923Z
DTSTART:20260513T140000Z
DTEND:20260513T170000Z
LOCATION:Aula MFC De Bogen Triasplein 11
SUMMARY:Bingo Middag
DESCRIPTION:Datum Woensdag 13 mei 2026 Plaats Drielandenzaal in MFC De Boge
 n Drielanden – Triasplein 11 Tijd Aanvang : 14:00 uur Einde : 17:00 uur (
 Verwacht) Zaal open : 13:30 uur Kosten -Leden € 2\, 50 p/p &amp; Niet-Led
 en  : € 5\, 00 p/p (betalen bij aanmelden) Aanmelden Op locatie &nbsp;\n
 https://wv3l.nl/events/bingo-middag-8/
URL:https://wv3l.nl/events/bingo-middag-8/
END:VEVENT
END:VCALENDAR