BEGIN:VCALENDAR
VERSION:2.0
PRODID:-//eventon.com NONSGML v1.0//EN
CALSCALE:GREGORIAN
METHOD:PUBLISH
BEGIN:VEVENT
UID:69ea021fe401c
DTSTAMP:20260423T112727Z
DTSTART:20251114T190000Z
DTEND:20251114T230000Z
LOCATION:Triaszaal MFC De Bogen Triasplein 11\,  3845 GC Harderwijk
SUMMARY:Spelletjesavond
DESCRIPTION:Datum: vrijdag 14 november 2025Tijd: 19:00 &#8211; 23:00uLocati
 e: Triaszaal\,  MFC de Bogen\nhttps://wv3l.nl/events/spelletjesavond/
URL:https://wv3l.nl/events/spelletjesavond/
END:VEVENT
END:VCALENDAR